BEGIN:VCALENDAR
VERSION:2.0
PRODID:-//Harvard T.H. Chan School of Public Health - ECPv6.11.2.1//NONSGML v1.0//EN
CALSCALE:GREGORIAN
METHOD:PUBLISH
X-WR-CALNAME:Harvard T.H. Chan School of Public Health
X-ORIGINAL-URL:https://hsph.harvard.edu
X-WR-CALDESC:Events for Harvard T.H. Chan School of Public Health
REFRESH-INTERVAL;VALUE=DURATION:PT1H
X-Robots-Tag:noindex
X-PUBLISHED-TTL:PT1H
BEGIN:VTIMEZONE
TZID:America/New_York
BEGIN:DAYLIGHT
TZOFFSETFROM:-0500
TZOFFSETTO:-0400
TZNAME:EDT
DTSTART:20250309T070000
END:DAYLIGHT
BEGIN:STANDARD
TZOFFSETFROM:-0400
TZOFFSETTO:-0500
TZNAME:EST
DTSTART:20251102T060000
END:STANDARD
END:VTIMEZONE
BEGIN:VEVENT
DTSTART;TZID=America/New_York:20250701T130000
DTEND;TZID=America/New_York:20250701T134500
DTSTAMP:20260425T222640
CREATED:20250618T134847Z
LAST-MODIFIED:20250701T004431Z
UID:111360005577-1751374800-1751377500@hsph.harvard.edu
SUMMARY:Ticks on the rise: Strategies for preventing disease
DESCRIPTION:Home / Events\n\n\n\n\n\n\nCHDS Seminar with Marissa Reitsma\n\n\n\n\n\n\n\n\n\n\n\n\n\n\n\nTime \n\n\n\n\n\n\n\nEvent Type \n\n\n\n	From Around the School\, Lectures/Seminars/Forums\n\n\n\n\n\n	\n		Register Today	\n\n\n\n\n\n\n\n\n\n\n\n\n	\n	\n\n\n\nFueled by warming temperatures and wetter climates\, tick-borne illnesses such as Lyme disease and babesiosis are becoming more prevalent across the U.S. How can we protect ourselves? This panel discussion brings together researchers and clinicians to discuss strategies for prevention—including education\, vaccine development\, and surveillance—and interventions to safeguard communities in an evolving landscape.  \n\n\n\nRegister for free to submit your questions.    \n\n\n\nAn on-demand video will be posted after the event.  \n\n\n\n\n\nSpeakers\n\n\n\n\n\n\n	\n		\n\n	\n		\n						\n							Gaurab Basu						\n					\n				Assistant Professor in the Department of Environmental Health\, Harvard T.H. Chan School of Public Health\n			\n			\n							\n					\n	\n\n\n\n	\n		\n							Cassandra Pierre					\n				Assistant Professor\, Boston University Chobanian and Avedisian School of Medicine; Medical Director of Public Health Programs and the Associate Hospital Epidemiologist\, Boston Medical Center \n			\n			\n												\n	\n\n\n\n	\n		\n							Richard Pollack					\n				Senior Environmental Public Health Officer\, Harvard University\n			\n			\n												\n	\n\n	\n\n\n\n\n\n\n\n\nModerator\n\n\n\n\n\n\n	\n		\n\n	\n		\n							Dave Epstein					\n				Meteorologist and Horticulturalist; Correspondent\, The Boston Globe; Meteorologist\, WGBH\n			\n			\n												\n	\n\n	\n\n\n\n\n\n\n\n\nAbout The Studio\n\n\n\n\n\n\nThe Harvard Chan Studio is the hub for the School’s premier in-person and live-streamed events. We convene global leaders in health policy\, advocacy\, industry\, and research for insightful conversations about public health’s most pressing challenges and most promising solutions.\n\n\n\n\n\n\n\n\n\n\n\n\n\n	\n		\n		\n			\n				\n					\n						Unleash your potential at Harvard Chan School.					\n					In addition to our degree programs\, we offer highly targeted executive and continuing education\, directed and taught by Harvard faculty. \n											\n																															\n									\n										Degree Programs									\n								\n																															\n									\n										How to Apply									\n								\n																															\n									\n										Executive and Continuing Education
URL:https://hsph.harvard.edu/studio/events/ticks-on-the-rise-strategies-for-preventing-disease/
LOCATION:Virtual
ATTACH;FMTTYPE=image/jpeg:https://hsph.harvard.edu/wp-content/uploads/2025/06/event-page-1280x720-3.jpg
END:VEVENT
BEGIN:VEVENT
DTSTART;TZID=America/New_York:20250715T080000
DTEND;TZID=America/New_York:20250715T083000
DTSTAMP:20260425T222640
CREATED:20250617T152253Z
LAST-MODIFIED:20250630T220852Z
UID:111360005575-1752566400-1752568200@hsph.harvard.edu
SUMMARY:Mental Health Leadership: Transformation Through Innovation
DESCRIPTION:Home / Events\n\n\n\n\n\n\nCHDS Seminar with Marissa Reitsma\n\n\n\n\n\n\n\n\n\n\n\n\n\n\n\nTime \n\n\n\n\n\n\n\nEvent Type \n\n\n\n	From Around the School\, Lectures/Seminars/Forums\n\n\n\n\n\n	\n		Register Today	\n\n\n\n\n\n\n\n\n\n\n\n\nJoin us for a webinar on the Mental Health Leadership: Transformation Through Innovation program offered by Harvard Chan School Executive and Continuing Education. \n\n\n\nHosted by Program Directors Vikram Patel\, Giuseppe Raviola\, and Shekhar Saxena\, will share how this program equips participants to scale effective mental health innovations in the U.S. and globally. They’ll discuss core topics\, including the social determinants of mental health\, digital technologies\, and rights-based approaches. \n\n\n\nIf you’re seeking practical skills and strategies to address the mental health care gap\, we invite you to attend this webinar to see how this program can align with your goals. \n\n\n\n\n\nSpeaker Information\n\n\n\n\n\n\n	\n		\n\n	\n		\n						\n							Vikram Patel\, BS\, MB\, PhD						\n					\n				Professor in the Department of Global Health and Population\n			\n			\n							\n					\n	\n\n\n\n	\n		\n						\n							Shekhar Saxena\, MD						\n					\n				Adjunct Professor of Global Mental Health\n			\n			\n							\n					\n	\n\n\n\n	\n		\n						\n							Giuseppe Raviola\, MD\, MPH						\n					\n				Associate Professor of Psychiatry\, Harvard Medical School\n			\n			\n												\n	\n\n	\n\n\n\n\n\n\n\n\nOrganizer\n\n\n\n\n\n\nExecutive and Continuing Education\n\n\n\n\n\n\n\n\n\n	\n		\n		\n			\n				\n					\n						Unleash your potential at Harvard Chan School.					\n					In addition to our degree programs\, we offer highly targeted executive and continuing education\, directed and taught by Harvard faculty. \n											\n																															\n									\n										Degree Programs									\n								\n																															\n									\n										How to Apply									\n								\n																															\n									\n										Executive and Continuing Education
URL:https://hsph.harvard.edu/exec-ed/events/mental-health-leadership-transformation-through-innovation/
LOCATION:Virtual
ATTACH;FMTTYPE=image/jpeg:https://hsph.harvard.edu/wp-content/uploads/2024/11/1.2.1_MHL_Mental-health-leadership-1-scaled.jpg
END:VEVENT
BEGIN:VEVENT
DTSTART;TZID=America/New_York:20250715T080000
DTEND;TZID=America/New_York:20250715T083000
DTSTAMP:20260425T222640
CREATED:20250617T152253Z
LAST-MODIFIED:20260417T170124Z
UID:111360005969-1752566400-1752568200@hsph.harvard.edu
SUMMARY:Mental Health Leadership: Transformation Through Innovation
DESCRIPTION:Home / Events\n\n\n\n\n\n\nCHDS Seminar with Marissa Reitsma\n\n\n\n\n\n\n\n\n\n\n\n\n\n\n\nTime \n\n\n\n\n\n\n\nEvent Type \n\n\n\n	From Around the School\, Lectures/Seminars/Forums\n\n\n\n\n\n	\n		Register Today	\n\n\n\n\n\n\n\n\n\n\n\n\nJoin us for a webinar on the Mental Health Leadership: Transformation Through Innovation program offered by Harvard Chan School Executive and Continuing Education. \n\n\n\nHosted by Program Directors Vikram Patel\, Giuseppe Raviola\, and Shekhar Saxena\, will share how this program equips participants to scale effective mental health innovations in the U.S. and globally. They’ll discuss core topics\, including the social determinants of mental health\, digital technologies\, and rights-based approaches. \n\n\n\nIf you’re seeking practical skills and strategies to address the mental health care gap\, we invite you to attend this webinar to see how this program can align with your goals. \n\n\n\n\n\nSpeaker Information\n\n\n\n\n\n\n	\n		\n\n	\n		\n						\n							Vikram Patel\, BS\, MB\, PhD						\n					\n				Professor in the Department of Global Health and Population\n			\n			\n							\n					\n	\n\n\n\n	\n		\n						\n							Shekhar Saxena\, MD						\n					\n				Adjunct Professor of Global Mental Health\n			\n			\n							\n					\n	\n\n\n\n	\n		\n						\n							Giuseppe Raviola\, MD\, MPH						\n					\n				Associate Professor of Psychiatry\, Harvard Medical School\n			\n			\n												\n	\n\n	\n\n\n\n\n\n\n\n\nOrganizer\n\n\n\n\n\n\nExecutive and Continuing Education\n\n\n\n\n\n\n\n\n\n	\n		\n		\n			\n				\n					\n						Unleash your potential at Harvard Chan School.					\n					In addition to our degree programs\, we offer highly targeted executive and continuing education\, directed and taught by Harvard faculty. \n											\n																															\n									\n										Degree Programs									\n								\n																															\n									\n										How to Apply									\n								\n																															\n									\n										Executive and Continuing Education
URL:https://hsph.harvard.edu/advanced-learning-academy/events/mental-health-leadership-transformation-through-innovation-2/
LOCATION:Virtual
ATTACH;FMTTYPE=image/jpeg:https://hsph.harvard.edu/wp-content/uploads/2024/11/1.2.1_MHL_Mental-health-leadership-1-scaled.jpg
END:VEVENT
BEGIN:VEVENT
DTSTART;TZID=America/New_York:20250715T130000
DTEND;TZID=America/New_York:20250715T135000
DTSTAMP:20260425T222640
CREATED:20250708T170343Z
LAST-MODIFIED:20250714T195010Z
UID:111360005591-1752584400-1752587400@hsph.harvard.edu
SUMMARY:Hot Topics Seminar Series: Reproductive health inequities among LGBTQ populations
DESCRIPTION:Home / Events\n\n\n\n\n\n\nCHDS Seminar with Marissa Reitsma\n\n\n\n\n\n\n\n\n\n\n\n\n\n\n\nTime \n\n\n\n\n\n\n\nEvent Type \n\n\n\n	From Around the School\, Lectures/Seminars/Forums\n\n\n\n\n\n	\n		Register Today	\n\n\n\n\n\n\n\n\n\n\n\n\nJoin us as we kick off the Hot Topics Seminar Series with Dr. Brittany Charlton\, a leading scholar of sexual and gender minority health inequities. In her talk\, Dr. Charlton will dive into her research on reproductive health inequities faced by LGBTQ communities—an urgent and often overlooked public health issue. \n\n\n\nThe talk will be followed by a Q&A session\, and light lunch will be served. \n\n\n\nDr. Charlton is an Associate Professor at Harvard Medical School and Harvard T.H. Chan School of Public Health. She is the Founding Director of the LGBTQ Health Center of Excellence. Widely recognized for her work on health inequities\, Dr. Carlton’s research centers on cancer and reproductive health among sexual and gender minority communities. She has published over 100 original research papers and leads several mentoring initiatives\, particularly for underrepresented minorities. \n\n\n\n\n\nSpeaker Information\n\n\n\n\n\n\n	\n		\n\n	\n		\n							Brittany Charlton					\n				Associate Professor in the Department of Epidemiology\n			\n			\n					\n	\n\n\n\n	\n\n\n\n\n\n\n\n\nOrganizers\n\n\n\n\n\n\nOffice of Educational Programs\n\n\n\n\n\n\n\n\n\n\n\n\n\n	\n		\n		\n			\n				\n					\n						Unleash your potential at Harvard Chan School.					\n					In addition to our degree programs\, we offer highly targeted executive and continuing education\, directed and taught by Harvard faculty. \n											\n																															\n									\n										Degree Programs									\n								\n																															\n									\n										How to Apply									\n								\n																															\n									\n										Executive and Continuing Education
URL:https://hsph.harvard.edu/educational-programs/events/hot-topics-seminar-series-reproductive-health-inequities-among-lgbtq-populations/
LOCATION:Kresge 202A
END:VEVENT
BEGIN:VEVENT
DTSTART;TZID=America/New_York:20250717T130000
DTEND;TZID=America/New_York:20250717T140000
DTSTAMP:20260425T222640
CREATED:20250711T155639Z
LAST-MODIFIED:20250711T155642Z
UID:111360005594-1752757200-1752760800@hsph.harvard.edu
SUMMARY:Addressing the Impact of Extreme Heat on Young Children
DESCRIPTION:Home / Events\n\n\n\n\n\n\nCHDS Seminar with Marissa Reitsma\n\n\n\n\n\n\n\n\n\n\n\n\n\n\n\nTime \n\n\n\n\n\n\n\nEvent Type \n\n\n\n	From Around the School\, Lectures/Seminars/Forums\n\n\n\n\n\n	\n		Register Today	\n\n\n\n\n\n\n\n\n\n\n\n\nExcessive heat can impact young children’s development and health both in the moment and across the lifespan. Implementing strategies to reduce exposure to extreme heat benefits children\, caregivers\, and communities. \n\n\n\nJoin us for a live conversation\, Addressing the Impact of Extreme Heat on Young Children\, on July 17 at 1 pm ET\, as we explore how communities are working to reduce the effects of extreme heat on early childhood development.   \n\n\n\nThe discussion will be led by Lindsey Burghardt\, MD\, MPH\, FAAP\, the Center’s Chief Science Officer and Founding Director of the Early Childhood Scientific Council on Equity and the Environment (ECSCEE)\, which authored the 2024 working paper\, Extreme Heat Affects Early Childhood Development and Health. Our panelists\, Michelle Kang\, Chief Executive Officer of the National Association for the Education of Young Children (NAEYC)\, and Jennifer Vanos\, PhD\, Associate Professor in the School of Sustainability and the College of Global Futures at Arizona State University\, will share innovative strategies to protect young children from extreme heat\, support caregivers\, and ensure healthy development of all children in our communities.  \n\n\n\n\n\nModerator\n\n\n\nSpeaker Information\n\n\n\n\n\n\n	\n		\n\n	\n		\n							Lindsey Burghardt\, MD\, MPH\, FAAP					\n				Chief Science Officer\, Center on the Developing Child at Harvard University              Founding Director\, Early Childhood Scientific Council on Equity and the Environment\n			\n			\n					\n	\n\n\n\n	\n		\n							Michelle Kang					\n				Chief Executive Officer\, National Association for the Education of Young Children\n			\n			\n					\n	\n\n\n\n	\n		\n							Jennifer Vanos\, PhD					\n				Associate Professor in the School of Sustainability and the College of Global Futures\, Arizona State University\n			\n			\n					\n	\n\n	\n\n\n\n\n\n\n\n\nOrganizers\n\n\n\n\n\n\nCenter on the Developing Child at Harvard University\n\n\n\n\n\n\n\n\n\n\n\n\n\n	\n		\n		\n			\n				\n					\n						Unleash your potential at Harvard Chan School.					\n					In addition to our degree programs\, we offer highly targeted executive and continuing education\, directed and taught by Harvard faculty. \n											\n																															\n									\n										Degree Programs									\n								\n																															\n									\n										How to Apply									\n								\n																															\n									\n										Executive and Continuing Education
URL:https://hsph.harvard.edu/events/addressing-the-impact-of-extreme-heat-on-young-children/
LOCATION:Online
ATTACH;FMTTYPE=image/png:https://hsph.harvard.edu/wp-content/uploads/2025/07/Impact-of-Extreme-Heat-event.png
END:VEVENT
BEGIN:VEVENT
DTSTART;TZID=America/New_York:20250722T130000
DTEND;TZID=America/New_York:20250722T135000
DTSTAMP:20260425T222640
CREATED:20250714T195237Z
LAST-MODIFIED:20250714T195240Z
UID:111360005595-1753189200-1753192200@hsph.harvard.edu
SUMMARY:Hot Topics Seminar Series: Understanding Medicaid Work Requirements - Research Evidence and the Current Debate
DESCRIPTION:Home / Events\n\n\n\n\n\n\nCHDS Seminar with Marissa Reitsma\n\n\n\n\n\n\n\n\n\n\n\n\n\n\n\nTime \n\n\n\n\n\n\n\nEvent Type \n\n\n\n	From Around the School\, Lectures/Seminars/Forums\n\n\n\n\n\n	\n		Register Today	\n\n\n\n\n\n\n\n\n\n\n\n\nJoin us for a timely Hot Topics session with Dr. Benjamin Sommers. A leading voice in health policy and economics\, Dr. Sommers will unpack the latest research and policy debates on Medicaid work requirements amid today’s shifting political landscape. \n\n\n\nThe talk will be followed by a Q&A session\, and light lunch will be served. Harvard ID required to enter the venue. \n\n\n\nDr. Sommers is a health economist and a primary care physician whose research interests are health policy for marginalized populations\, the uninsured\, and the health care safety net. He is the Huntley Quelch Professor of Health Care Economics at Harvard Chan and Professor of Medicine at Harvard Medical School. His research has been published in leading journals including the New England Journal of Medicine\, JAMA\, and Health Affairs\, and his work has been profiled in the New York Times\, Wall Street Journal\, and National Public Radio. He was elected to the National Academy of Medicine in 2019. From 2021 to 2023\, he served in the Biden Administration as the Deputy Assistant Secretary for Health Policy in the Office of the Assistant Secretary for Planning and Evaluation (ASPE)\, at the Department of Health and Human Services. \n\n\n\n\n\nSpeaker Information\n\n\n\n\n\n\n	\n		\n\n	\n		\n							Benjamin Sommers					\n				Huntley Quelch Professor of Health Care Economics\, Health Policy and Management\n			\n			\n					\n	\n\n\n\n	\n\n\n\n\n\n\n\n\nOrganizers\n\n\n\n\n\n\nOffice of Educational Programs\n\n\n\n\n\n\n\n\n\n\n\n\n\n	\n		\n		\n			\n				\n					\n						Unleash your potential at Harvard Chan School.					\n					In addition to our degree programs\, we offer highly targeted executive and continuing education\, directed and taught by Harvard faculty. \n											\n																															\n									\n										Degree Programs									\n								\n																															\n									\n										How to Apply									\n								\n																															\n									\n										Executive and Continuing Education
URL:https://hsph.harvard.edu/educational-programs/events/hot-topics-seminar-series-understanding-medicaid-work-requirements-research-evidence-and-the-current-debate/
LOCATION:Kresge 202A
ATTACH;FMTTYPE=image/jpeg:https://hsph.harvard.edu/wp-content/uploads/2025/07/July-22nd-Sommers-Medicaid-stock-photo-HSPH-events-calender.jpeg
END:VEVENT
BEGIN:VEVENT
DTSTART;TZID=America/New_York:20250722T130000
DTEND;TZID=America/New_York:20250722T141500
DTSTAMP:20260425T222640
CREATED:20250702T183357Z
LAST-MODIFIED:20250708T205956Z
UID:111360005590-1753189200-1753193700@hsph.harvard.edu
SUMMARY:Nutrition and Infection Interventions to Promote Survival\, Growth\, and Development
DESCRIPTION:Home / Events\n\n\n\n\n\n\nCHDS Seminar with Marissa Reitsma\n\n\n\n\n\n\n\n\n\n\n\n\n\n\n\nTime \n\n\n\n\n\n\n\nEvent Type \n\n\n\n	From Around the School\, Lectures/Seminars/Forums\n\n\n\n\n\n	\n		Register Today	\n\n\n\n\n\n\n\n\n\n\n\n\nWatch here \n\n\n\nJoin the Department of Global Health and Population on Tuesday\, July 22\, for a seminar featuring Christopher R. Sudfeld\, Associate Professor of Global Health and Nutrition in the Department of Global Health and Population. Christopher Sudfeld will present\, “Nutrition and Infection Interventions to Promote Survival\, Growth\, and Development”. \n\n\n\nThis hybrid seminar will be held in Building 1\, Room 1208 and via Zoom. \n\n\n\nPlease note\, a Harvard ID is required for building access. \n\n\n\nSpeakers will share their own perspectives; they do not speak for Harvard \n\n\n\n\n\nSpeaker Information\n\n\n\n\n\n\n	\n		\n\n	\n		\n						\n							Christopher Robert Sudfeld						\n					\n				Associate Professor of Global Health and Nutrition\n			\n			\n							\n					\n	\n\n\n\n	\n\n\n\n\n\n\n\n\nOrganizers\n\n\n\n\n\n\nDepartment of Global Health and Population\n\n\n\n\n\n\n\n\n\n\n\n\n\n	\n		\n		\n			\n				\n					\n						Unleash your potential at Harvard Chan School.					\n					In addition to our degree programs\, we offer highly targeted executive and continuing education\, directed and taught by Harvard faculty. \n											\n																															\n									\n										Degree Programs									\n								\n																															\n									\n										How to Apply									\n								\n																															\n									\n										Executive and Continuing Education
URL:https://hsph.harvard.edu/global-health-population/events/nutrition-and-infection-interventions-to-promote-survival-growth-and-development/
LOCATION:Building 1 – Room 1208\, 665 Huntington Avenue\, Boston\, MA\, 02115\, United States
ATTACH;FMTTYPE=image/png:https://hsph.harvard.edu/wp-content/uploads/2025/07/CS-headshot-image.png
END:VEVENT
BEGIN:VEVENT
DTSTART;TZID=America/New_York:20250723T130000
DTEND;TZID=America/New_York:20250723T140000
DTSTAMP:20260425T222640
CREATED:20250715T164655Z
LAST-MODIFIED:20250715T164658Z
UID:111360005596-1753275600-1753279200@hsph.harvard.edu
SUMMARY:Humans of Harvard Chan: Storytelling Slam
DESCRIPTION:Home / Events\n\n\n\n\n\n\nCHDS Seminar with Marissa Reitsma\n\n\n\n\n\n\n\n\n\n\n\n\n\n\n\nTime \n\n\n\n\n\n\n\nEvent Type \n\n\n\n	From Around the School\, Lectures/Seminars/Forums\n\n\n\n\n\n	\n		Register Today	\n\n\n\n\n\n\n\n\n\n\n\n\nWhat does belonging mean to you? \n\n\n\nJoin us for “Humans of Harvard Chan\,” a storytelling slam that aims to explore what belonging means through the power of lived experience. Whether it’s a moment of connection\, a struggle to fit in\, or finding home in an unexpected place—this is your chance to share a 3–5 minute story about belonging.All Harvard Chan community members—students\, staff\, faculty\, and academic appointees—are invited to speak or simply come listen. Storytellers and story-listeners alike are essential. \n\n\n\nCome for the stories. Stay for the connection. Everyone is welcome.The event is an in-person event only in Kresge G4 Suite Lounge (Ground Floor). \n\n\n\n\n\nOrganizers\n\n\n\n\n\n\nOffice for Community and Belonging\n\n\n\n\n\n\n\n\n\n\n\n\n\n	\n		\n		\n			\n				\n					\n						Unleash your potential at Harvard Chan School.					\n					In addition to our degree programs\, we offer highly targeted executive and continuing education\, directed and taught by Harvard faculty. \n											\n																															\n									\n										Degree Programs									\n								\n																															\n									\n										How to Apply									\n								\n																															\n									\n										Executive and Continuing Education
URL:https://hsph.harvard.edu/community-belonging/events/humans-of-harvard-chan-storytelling-slam/
LOCATION:Kresge G4
ATTACH;FMTTYPE=image/png:https://hsph.harvard.edu/wp-content/uploads/2025/07/OCB.png
END:VEVENT
END:VCALENDAR