BEGIN:VCALENDAR
VERSION:2.0
PRODID:-//Harvard T.H. Chan School of Public Health - ECPv6.11.2.1//NONSGML v1.0//EN
CALSCALE:GREGORIAN
METHOD:PUBLISH
X-WR-CALNAME:Harvard T.H. Chan School of Public Health
X-ORIGINAL-URL:https://hsph.harvard.edu
X-WR-CALDESC:Events for Harvard T.H. Chan School of Public Health
REFRESH-INTERVAL;VALUE=DURATION:PT1H
X-Robots-Tag:noindex
X-PUBLISHED-TTL:PT1H
BEGIN:VTIMEZONE
TZID:America/New_York
BEGIN:DAYLIGHT
TZOFFSETFROM:-0500
TZOFFSETTO:-0400
TZNAME:EDT
DTSTART:20260308T070000
END:DAYLIGHT
BEGIN:STANDARD
TZOFFSETFROM:-0400
TZOFFSETTO:-0500
TZNAME:EST
DTSTART:20261101T060000
END:STANDARD
END:VTIMEZONE
BEGIN:VEVENT
DTSTART;TZID=America/New_York:20260422T120000
DTEND;TZID=America/New_York:20260422T123000
DTSTAMP:20260422T061657
CREATED:20250219T213243Z
LAST-MODIFIED:20260410T045835Z
UID:111360005454-1776859200-1776861000@hsph.harvard.edu
SUMMARY:Emerging Women Executives in Health Care
DESCRIPTION:Home / 404\n\n\n\n\n\n\n21st Freeman-Seage Symposium on Infectious Disease Epidemiology\n\n\n\n\n\n\n\n\n\n\n\n\n\n\n\nTime \n\n\n\n\n\n\n\nEvent Type \n\n\n\n	Conferences and Symposia\, From Around the School\n\n\n\n\n\n	\n		Register Today	\n\n\n\n\n\n\n\n\n\n\n\n\nJoin us for a webinar on the Emerging Women Executives in Health Care program offered by Harvard Chan School Executive and Continuing Education\, hosted by Program Director Karen A. Curley\, MSW\, MPH. \n\n\n\nMs. Curley will provide insights into the program\, detailing what participants can expect to learn and gain. Although women form the majority of the health care workforce\, few hold executive positions. This program is designed to empower senior\, mid-career\, and emerging health care leaders by enhancing their leadership strategies\, preparing them for future career advancements\, and equipping them with the skills needed to promote the advancement of women in executive roles. \n\n\n\nIf you’re interested in developing leadership skills and advancing your career in health care\, we encourage you to attend this webinar to see how this program might align with your goals. \n\n\n\n\n\nSpeaker Information\n\n\n\n\n\n\n	\n		\n\n	\n		\n						\n							Karen A. Curley\, MSW\, MPH						\n					\n				Vice President\, Client Services\, The Leadership Development Group\n			\n			\n												\n	\n\n	\n\n\n\n\n\n\n\n\nOrganizers\n\n\n\n\n\n\nExecutive and Continuing Education\n\n\n\n\n\n\n\n\n\n	\n\n\n\n\nTraining for Today’s Public Health Leaders\n\n\n\nEnhance your professional growth with innovative programs. \n\n\n\n\nPrograms for Individuals \n\n\n\nNews and Resources \n\n\n\n \n\n\n\nPrograms for Organizations \n\n\n\nFaculty Directory \n\n\n\n \n\n\n\nCertificates of Specialization \n\n\n\nAbout Executive Education \n\n\n\n \n\n\n\nExecutive Education Homepage \n\n\n\nFAQs
URL:https://hsph.harvard.edu/exec-ed/events/emerging-women-executives-in-health-care/
LOCATION:Virtual
ATTACH;FMTTYPE=image/jpeg:https://hsph.harvard.edu/wp-content/uploads/2024/07/1.2.1_WEX_Emerging-women-executives-scaled.jpg
END:VEVENT
BEGIN:VEVENT
DTSTART;TZID=America/New_York:20260422T130000
DTEND;TZID=America/New_York:20260422T135000
DTSTAMP:20260422T061657
CREATED:20260217T171950Z
LAST-MODIFIED:20260318T180441Z
UID:111360005866-1776862800-1776865800@hsph.harvard.edu
SUMMARY:Harmonizing for Happiness: Finding Calm\, Connection\, and Joy Through Song
DESCRIPTION:Home / 404\n\n\n\n\n\n\n21st Freeman-Seage Symposium on Infectious Disease Epidemiology\n\n\n\n\n\n\n\n\n\n\n\n\n\n\n\nEvent Type \n\n\n\n\n\n\n\nEvent Type \n\n\n\n	Conferences and Symposia\, From Around the School\n\n\n\n\n\n	\n		Register Today	\n\n\n\n\n\n\n\n\n\n\n\n\nHarmonizing for Happiness: Finding Calm\, Connection\, and Joy Through Song is an interactive well-being workshop that invites all members of the Harvard community to explore how group singing can reduce stress\, lift mood\, and build a sense of connection—no musical experience required. Led by Center Student Engagement Committee member Priyam Bhushan Aturi\, MPH ’26\, this 50-minute session will combine a brief\, accessible overview of the science behind singing and well-being with guided warm-ups\, simple humming exercises\, and inclusive group singing activities in a low-pressure\, non-judgmental environment. Participants will have the chance to notice the emotional and physical effects of singing together\, reflect as a group\, and leave with practical tools—like humming or simple vocal exercises—that they can use in daily life to support their mental health and resilience. Lunch will be provided. \n\n\n\n\nRSVP TODAY!\n\n\n\n\n\n\nSpeaker Information\n\n\n\n\n\n\n	\n		\n\n	\n		\n							Priyam Bhushan Aturi					\n				MPH '26\n			\n			\n												\n	\n\n\n\n	\n\n\n\n\n\n\n\n\nOrganizers\n\n\n\n\n\n\nLee Kum Sheung Center for Health and Happiness\n\n\n\n\n\n\n\n\n\n\n\n\n\n	\n		\n		\n			\n				\n					\n						Unleash your potential at Harvard Chan School.					\n					In addition to our degree programs\, we offer highly targeted executive and continuing education\, directed and taught by Harvard faculty. \n											\n																															\n									\n										Degree Programs									\n								\n																															\n									\n										How to Apply									\n								\n																															\n									\n										Executive and Continuing Education
URL:https://hsph.harvard.edu/health-happiness/events/harmonizing-for-happiness-finding-calm-connection-and-joy-through-song/
LOCATION:Kresge 202A\, 677 Huntington Ave\, Boston\, Massachusetts\, 02115
ATTACH;FMTTYPE=image/png:https://hsph.harvard.edu/wp-content/uploads/2026/02/Social-Media-Graphics-75.png
END:VEVENT
BEGIN:VEVENT
DTSTART;TZID=America/New_York:20260422T130000
DTEND;TZID=America/New_York:20260422T140000
DTSTAMP:20260422T061657
CREATED:20260327T151002Z
LAST-MODIFIED:20260403T140356Z
UID:111360005922-1776862800-1776866400@hsph.harvard.edu
SUMMARY:Center Member Research Presentation: Hannah Healy\, PhD
DESCRIPTION:Home / 404\n\n\n\n\n\n\n21st Freeman-Seage Symposium on Infectious Disease Epidemiology\n\n\n\n\n\n\n\n\n\n\n\n\n\n\n\nEvent Type \n\n\n\n\n\n\n\nEvent Type \n\n\n\n	Conferences and Symposia\, From Around the School\n\n\n\n\n\n	\n		Register Today	\n\n\n\n\n\n\n\n\n\n\n\n\nJoin us for a Center Member Research Presentation by Dr. Hannah Healy. Following a brief presentation entitled “Monitoring microbial risks from tap to sewer\,” there will be time for all participants to engage in a cross-disciplinary discussion with Dr. Healy and each other. \n\n\n\nSummary: Drinking water and wastewater infrastructure are vital to the protection of human health. In this talk\, Dr. Healy will discuss how understanding drinking water microbiomes can help prevent waterborne opportunistic infections and how surveilling wastewater metagenomes can serve as a leading indicator of disease prevalence. Finally\, she will present the H2O Lab’s current research initiatives and initiate a discussion on synergies with other NIEHS Center research.  \n\n\n\nAbout the speaker: Dr. Hannah Greenwald Healy is an Assistant Professor of Environmental Health and Exposure Science at the Harvard T.H. Chan School of Public Health with a secondary appointment in Environmental Science and Engineering in the School of Engineering and Applied Sciences. She runs the Healy Health ‘Omics (H2O) Lab\, which aims to improve public health by monitoring and controlling pathogens and their broader microbiomes in engineered water systems. Dr. Healy is trained as an Environmental Engineer\, receiving her BS from Georgia Tech and MS and PhD from the University of California\, Berkeley. Prior to her faculty appointment\, she completed a Gaylord Donnelley Postdoctoral Fellowship at Yale University.  \n\n\n\nThis event will be held in person in HSPH Bldg. 1\, 1302 and via Zoom. Register here \n\n\n\n\n\nSpeaker Information\n\n\n\n\n\n\n	\n		\n\n	\n		\n						\n							Hannah Greenwald Healy						\n					\n				Assistant Professor of Environmental Health and Exposure Science\n			\n			\n							\n					\n	\n\n\n\n	\n\n\n\n\n\n\n\n\nOrganizers\n\n\n\n\n\n\nHarvard Chan NIEHS Center for Environmental Health\n\n\n\n\n\n\n\n\n\n\n\n\n\n	\n		\n		\n			\n				\n					\n						Unleash your potential at Harvard Chan School.					\n					In addition to our degree programs\, we offer highly targeted executive and continuing education\, directed and taught by Harvard faculty. \n											\n																															\n									\n										Degree Programs									\n								\n																															\n									\n										How to Apply									\n								\n																															\n									\n										Executive and Continuing Education
URL:https://hsph.harvard.edu/environmental-health-niehs/events/center-member-research-presentation-hannah-healy-phd/
LOCATION:HSPH\, Bldg. 1\, 1302 and Zoom
ATTACH;FMTTYPE=image/png:https://hsph.harvard.edu/wp-content/uploads/2026/01/CMRP-Header-Rectangle-NEW-640-x-200-px.png
END:VEVENT
END:VCALENDAR